BEGIN:VCALENDAR
VERSION:2.0
PRODID:-//DeKalb Benefits - ECPv6.6.4.2//NONSGML v1.0//EN
CALSCALE:GREGORIAN
METHOD:PUBLISH
X-WR-CALNAME:DeKalb Benefits
X-ORIGINAL-URL:https://yourdekalbbenefits.com
X-WR-CALDESC:Events for DeKalb Benefits
REFRESH-INTERVAL;VALUE=DURATION:PT1H
X-Robots-Tag:noindex
X-PUBLISHED-TTL:PT1H
BEGIN:VTIMEZONE
TZID:America/New_York
BEGIN:DAYLIGHT
TZOFFSETFROM:-0500
TZOFFSETTO:-0400
TZNAME:EDT
DTSTART:20260308T070000
END:DAYLIGHT
BEGIN:STANDARD
TZOFFSETFROM:-0400
TZOFFSETTO:-0500
TZNAME:EST
DTSTART:20261101T060000
END:STANDARD
END:VTIMEZONE
BEGIN:VEVENT
DTSTART;TZID=America/New_York:20260416T180000
DTEND;TZID=America/New_York:20260416T190000
DTSTAMP:20260423T044658
CREATED:20260409T175013Z
LAST-MODIFIED:20260409T175013Z
UID:1978-1776362400-1776366000@yourdekalbbenefits.com
SUMMARY:Webinar: Beyond the Sticker Price: The True Cost of Car Ownership
DESCRIPTION:Owning a car involves more than just the purchase price–fuel\, maintenance\, insurance and unexpected repairs can all add up quickly. Whether you’ve recently bought a car or are planning to\, this session will help you understand and compare the full costs of ownership so you can plan accordingly. Learn how to save money and make informed decisions about your vehicle expenses. \nRegister today!
URL:https://yourdekalbbenefits.com/event/webinar-beyond-the-sticker-price-the-true-cost-of-car-ownership/
CATEGORIES:Financial
END:VEVENT
END:VCALENDAR