BEGIN:VCALENDAR
VERSION:2.0
PRODID:-//DeKalb Benefits - ECPv6.6.4.2//NONSGML v1.0//EN
CALSCALE:GREGORIAN
METHOD:PUBLISH
X-WR-CALNAME:DeKalb Benefits
X-ORIGINAL-URL:https://yourdekalbbenefits.com
X-WR-CALDESC:Events for DeKalb Benefits
REFRESH-INTERVAL;VALUE=DURATION:PT1H
X-Robots-Tag:noindex
X-PUBLISHED-TTL:PT1H
BEGIN:VTIMEZONE
TZID:America/New_York
BEGIN:DAYLIGHT
TZOFFSETFROM:-0500
TZOFFSETTO:-0400
TZNAME:EDT
DTSTART:20260308T070000
END:DAYLIGHT
BEGIN:STANDARD
TZOFFSETFROM:-0400
TZOFFSETTO:-0500
TZNAME:EST
DTSTART:20261101T060000
END:STANDARD
END:VTIMEZONE
BEGIN:VEVENT
DTSTART;TZID=America/New_York:20260425T110000
DTEND;TZID=America/New_York:20260425T200000
DTSTAMP:20260423T061722
CREATED:20260409T175609Z
LAST-MODIFIED:20260409T175718Z
UID:1983-1777114800-1777147200@yourdekalbbenefits.com
SUMMARY:Inman Park Festival
DESCRIPTION:
URL:https://yourdekalbbenefits.com/event/inman-park-festival-3/
LOCATION:Inman Park\, Atlanta\, GA
CATEGORIES:Community
END:VEVENT
END:VCALENDAR