BEGIN:VCALENDAR
VERSION:2.0
PRODID:-//DeKalb Benefits - ECPv6.6.4.2//NONSGML v1.0//EN
CALSCALE:GREGORIAN
METHOD:PUBLISH
X-WR-CALNAME:DeKalb Benefits
X-ORIGINAL-URL:https://yourdekalbbenefits.com
X-WR-CALDESC:Events for DeKalb Benefits
REFRESH-INTERVAL;VALUE=DURATION:PT1H
X-Robots-Tag:noindex
X-PUBLISHED-TTL:PT1H
BEGIN:VTIMEZONE
TZID:America/New_York
BEGIN:DAYLIGHT
TZOFFSETFROM:-0500
TZOFFSETTO:-0400
TZNAME:EDT
DTSTART:20260308T070000
END:DAYLIGHT
BEGIN:STANDARD
TZOFFSETFROM:-0400
TZOFFSETTO:-0500
TZNAME:EST
DTSTART:20261101T060000
END:STANDARD
END:VTIMEZONE
BEGIN:VEVENT
DTSTART;TZID=America/New_York:20260425T100000
DTEND;TZID=America/New_York:20260425T160000
DTSTAMP:20260425T104449
CREATED:20260424T151115Z
LAST-MODIFIED:20260424T151115Z
UID:1987-1777111200-1777132800@yourdekalbbenefits.com
SUMMARY:ARTucker
DESCRIPTION:April 25\, 2026\, 10AM – 4PM\nLocation: Tucker Town Green\,\n4226 Railroad Ave\, Tucker\, GA 30084 \nARTucker\, INC is dedicated to showcasing Georgia artists and makers while growing a vibrant\, inclusive art-loving community right where we live. 
URL:https://yourdekalbbenefits.com/event/artucker/
LOCATION:Tucker Town Green\, 4226 Railroad Ave\, Tucker\, GA\, 30084\, United States
CATEGORIES:Community
END:VEVENT
END:VCALENDAR